BEGIN:VCALENDAR
VERSION:2.0
PRODID:-//New Hopetoun Gardens - ECPv6.15.20//NONSGML v1.0//EN
CALSCALE:GREGORIAN
METHOD:PUBLISH
X-ORIGINAL-URL:https://www.newhopetoungardens.co.uk
X-WR-CALDESC:Events for New Hopetoun Gardens
REFRESH-INTERVAL;VALUE=DURATION:PT1H
X-Robots-Tag:noindex
X-PUBLISHED-TTL:PT1H
BEGIN:VTIMEZONE
TZID:Europe/London
BEGIN:DAYLIGHT
TZOFFSETFROM:+0000
TZOFFSETTO:+0100
TZNAME:BST
DTSTART:20250330T010000
END:DAYLIGHT
BEGIN:STANDARD
TZOFFSETFROM:+0100
TZOFFSETTO:+0000
TZNAME:GMT
DTSTART:20251026T010000
END:STANDARD
BEGIN:DAYLIGHT
TZOFFSETFROM:+0000
TZOFFSETTO:+0100
TZNAME:BST
DTSTART:20260329T010000
END:DAYLIGHT
BEGIN:STANDARD
TZOFFSETFROM:+0100
TZOFFSETTO:+0000
TZNAME:GMT
DTSTART:20261025T010000
END:STANDARD
BEGIN:DAYLIGHT
TZOFFSETFROM:+0000
TZOFFSETTO:+0100
TZNAME:BST
DTSTART:20270328T010000
END:DAYLIGHT
BEGIN:STANDARD
TZOFFSETFROM:+0100
TZOFFSETTO:+0000
TZNAME:GMT
DTSTART:20271031T010000
END:STANDARD
END:VTIMEZONE
BEGIN:VEVENT
DTSTART;TZID=Europe/London:20260107T100000
DTEND;TZID=Europe/London:20260527T170000
DTSTAMP:20260425T121141
CREATED:20250107T154434Z
LAST-MODIFIED:20260106T142033Z
UID:16662-1767780000-1779901200@www.newhopetoungardens.co.uk
SUMMARY:Dougal's Discount Wednesdays
DESCRIPTION:Discount Wednesdays are back!\n10% off EVERYTHING* every Wednesday right through until the end of May.\n*except tearoom\, vouchers\, other special offers & special orders
URL:https://www.newhopetoungardens.co.uk/event/dougals-discount-wednesdays/
LOCATION:New Hopetoun Gardens
ATTACH;FMTTYPE=image/jpeg:https://www.newhopetoungardens.co.uk/wp-content/uploads/2023/09/418724486_884495807008871_5565575522256838235_n.jpg
END:VEVENT
BEGIN:VEVENT
DTSTART;TZID=Europe/London:20260328T100000
DTEND;TZID=Europe/London:20260430T170000
DTSTAMP:20260425T121141
CREATED:20260416T080248Z
LAST-MODIFIED:20260416T080305Z
UID:17029-1774692000-1777568400@www.newhopetoungardens.co.uk
SUMMARY:Hopsy Bunny’s Easter Trail
DESCRIPTION:Hopsy Bunny’s Easter Trail – is on now and runs until 30th April (10.00am to 5.00pm every day) \nThe word from the burrows (or more aptly this year: via ‘jungle drums’) is that Hopsy Bunny has visited us again and left another little trail for the kiddiwinks to find and follow. \nGrab a map at our info desk to locate the 8 clues she’s hopped and then dropped from her Easter basket\, all around the garden centre. They’ll help you figure out the answer to her question for a wee reward 🐣 Our Easter adventure is free and for the whole family!
URL:https://www.newhopetoungardens.co.uk/event/tea-n-a-talk-planting-your-pots-for-wonderful-summer-displays/
LOCATION:New Hopetoun Gardens
ATTACH;FMTTYPE=image/webp:https://www.newhopetoungardens.co.uk/wp-content/uploads/2026/04/657699947_18428837230139499_5818316717966294381_nfull.webp
END:VEVENT
BEGIN:VEVENT
DTSTART;TZID=Europe/London:20260501T103000
DTEND;TZID=Europe/London:20260501T113000
DTSTAMP:20260425T121141
CREATED:20250107T160800Z
LAST-MODIFIED:20260416T080016Z
UID:16673-1777631400-1777635000@www.newhopetoungardens.co.uk
SUMMARY:Tea ‘n’ a Talk - Planting Your Pots For Wonderful Summer Displays
DESCRIPTION:Tea ‘n’ a Talk – Planting Your Pots For Wonderful Summer Displays (Friday 1 May\, 10.30 to 11.30am) \nSo you’ve got your permanent pots sorted but what about those Summer displays? Whether you favour old faithfuls or seek something new\, Dougal & Lesley will fill you with suggestions\, as well as showing you how to plant up and care for your creations. \nTickets £6 in advance (includes tea/coffee and shortbread). To book\, please call us on 01506 834433 or simply pop in.
URL:https://www.newhopetoungardens.co.uk/event/tea-n-a-talk-choosing-arranging-your-plants/
LOCATION:The Bird House – New Hopetoun Garden Centre
ATTACH;FMTTYPE=image/webp:https://www.newhopetoungardens.co.uk/wp-content/uploads/2025/01/670831677_18431168533139499_1939504020139413355_nfull.webp
END:VEVENT
END:VCALENDAR