BEGIN:VCALENDAR
VERSION:2.0
PRODID:-//New Hopetoun Gardens - ECPv6.15.20//NONSGML v1.0//EN
CALSCALE:GREGORIAN
METHOD:PUBLISH
X-WR-CALNAME:New Hopetoun Gardens
X-ORIGINAL-URL:https://www.newhopetoungardens.co.uk
X-WR-CALDESC:Events for New Hopetoun Gardens
REFRESH-INTERVAL;VALUE=DURATION:PT1H
X-Robots-Tag:noindex
X-PUBLISHED-TTL:PT1H
BEGIN:VTIMEZONE
TZID:Europe/London
BEGIN:DAYLIGHT
TZOFFSETFROM:+0000
TZOFFSETTO:+0100
TZNAME:BST
DTSTART:20240331T010000
END:DAYLIGHT
BEGIN:STANDARD
TZOFFSETFROM:+0100
TZOFFSETTO:+0000
TZNAME:GMT
DTSTART:20241027T010000
END:STANDARD
BEGIN:DAYLIGHT
TZOFFSETFROM:+0000
TZOFFSETTO:+0100
TZNAME:BST
DTSTART:20250330T010000
END:DAYLIGHT
BEGIN:STANDARD
TZOFFSETFROM:+0100
TZOFFSETTO:+0000
TZNAME:GMT
DTSTART:20251026T010000
END:STANDARD
BEGIN:DAYLIGHT
TZOFFSETFROM:+0000
TZOFFSETTO:+0100
TZNAME:BST
DTSTART:20260329T010000
END:DAYLIGHT
BEGIN:STANDARD
TZOFFSETFROM:+0100
TZOFFSETTO:+0000
TZNAME:GMT
DTSTART:20261025T010000
END:STANDARD
END:VTIMEZONE
BEGIN:VEVENT
DTSTART;TZID=Europe/London:20251129T100000
DTEND;TZID=Europe/London:20251222T163000
DTSTAMP:20260425T112226
CREATED:20241108T105708Z
LAST-MODIFIED:20251030T150456Z
UID:16626-1764410400-1766421000@www.newhopetoungardens.co.uk
SUMMARY:Real Christmas Trees Available
DESCRIPTION:Fresh Christmas Trees\n\nFull range of real\, Scottish-grown Christmas trees will be available from Saturday 29th November. \nAs usual we have a full range of types and sizes including potted trees which will live on after the festive the season. \nMORE INFO
URL:https://www.newhopetoungardens.co.uk/event/real-christmas-trees-available/
LOCATION:New Hopetoun Gardens
ATTACH;FMTTYPE=image/jpeg:https://www.newhopetoungardens.co.uk/wp-content/uploads/2021/11/78689599_2703653966361057_897229972488323072_n.jpg
END:VEVENT
END:VCALENDAR