BEGIN:VCALENDAR
VERSION:2.0
PRODID:-//New Hopetoun Gardens - ECPv6.15.20//NONSGML v1.0//EN
CALSCALE:GREGORIAN
METHOD:PUBLISH
X-ORIGINAL-URL:https://www.newhopetoungardens.co.uk
X-WR-CALDESC:Events for New Hopetoun Gardens
REFRESH-INTERVAL;VALUE=DURATION:PT1H
X-Robots-Tag:noindex
X-PUBLISHED-TTL:PT1H
BEGIN:VTIMEZONE
TZID:Europe/London
BEGIN:DAYLIGHT
TZOFFSETFROM:+0000
TZOFFSETTO:+0100
TZNAME:BST
DTSTART:20240331T010000
END:DAYLIGHT
BEGIN:STANDARD
TZOFFSETFROM:+0100
TZOFFSETTO:+0000
TZNAME:GMT
DTSTART:20241027T010000
END:STANDARD
BEGIN:DAYLIGHT
TZOFFSETFROM:+0000
TZOFFSETTO:+0100
TZNAME:BST
DTSTART:20250330T010000
END:DAYLIGHT
BEGIN:STANDARD
TZOFFSETFROM:+0100
TZOFFSETTO:+0000
TZNAME:GMT
DTSTART:20251026T010000
END:STANDARD
BEGIN:DAYLIGHT
TZOFFSETFROM:+0000
TZOFFSETTO:+0100
TZNAME:BST
DTSTART:20260329T010000
END:DAYLIGHT
BEGIN:STANDARD
TZOFFSETFROM:+0100
TZOFFSETTO:+0000
TZNAME:GMT
DTSTART:20261025T010000
END:STANDARD
END:VTIMEZONE
BEGIN:VEVENT
DTSTART;TZID=Europe/London:20250704T103000
DTEND;TZID=Europe/London:20250831T170000
DTSTAMP:20260425T022219
CREATED:20250625T101512Z
LAST-MODIFIED:20250625T101713Z
UID:16870-1751625000-1756659600@www.newhopetoungardens.co.uk
SUMMARY:art in the garden event - 2025
DESCRIPTION:A free event celebrating original works of art installed throughout our gardens by local artists working in Scotland\nPlease come along and view beautiful artwork created by local artists and vote for your favourite pieces to enter our prize draw. Entry is free and the event runs throughout July & August and opens officially on Friday 4th July. We would be delighted to see you here\, and don’t forget to vote for your favourite pieces. \nMore Details – HERE
URL:https://www.newhopetoungardens.co.uk/event/art-in-the-garden-event-2025/
LOCATION:New Hopetoun Gardens
ATTACH;FMTTYPE=image/webp:https://www.newhopetoungardens.co.uk/wp-content/uploads/2024/06/web2.webp
END:VEVENT
END:VCALENDAR